BEGIN:VCALENDAR
VERSION:2.0
PRODID:-//Gateway to Hope - ECPv6.15.20//NONSGML v1.0//EN
CALSCALE:GREGORIAN
METHOD:PUBLISH
X-WR-CALNAME:Gateway to Hope
X-ORIGINAL-URL:https://gthmo.org
X-WR-CALDESC:Events for Gateway to Hope
REFRESH-INTERVAL;VALUE=DURATION:PT1H
X-Robots-Tag:noindex
X-PUBLISHED-TTL:PT1H
BEGIN:VTIMEZONE
TZID:America/Chicago
BEGIN:DAYLIGHT
TZOFFSETFROM:-0600
TZOFFSETTO:-0500
TZNAME:CDT
DTSTART:20250309T080000
END:DAYLIGHT
BEGIN:STANDARD
TZOFFSETFROM:-0500
TZOFFSETTO:-0600
TZNAME:CST
DTSTART:20251102T070000
END:STANDARD
BEGIN:DAYLIGHT
TZOFFSETFROM:-0600
TZOFFSETTO:-0500
TZNAME:CDT
DTSTART:20260308T080000
END:DAYLIGHT
BEGIN:STANDARD
TZOFFSETFROM:-0500
TZOFFSETTO:-0600
TZNAME:CST
DTSTART:20261101T070000
END:STANDARD
BEGIN:DAYLIGHT
TZOFFSETFROM:-0600
TZOFFSETTO:-0500
TZNAME:CDT
DTSTART:20270314T080000
END:DAYLIGHT
BEGIN:STANDARD
TZOFFSETFROM:-0500
TZOFFSETTO:-0600
TZNAME:CST
DTSTART:20271107T070000
END:STANDARD
END:VTIMEZONE
BEGIN:VEVENT
DTSTART;TZID=America/Chicago:20260425T100000
DTEND;TZID=America/Chicago:20260425T123000
DTSTAMP:20260420T034121
CREATED:20260417T161556Z
LAST-MODIFIED:20260417T165139Z
UID:5567-1777111200-1777120200@gthmo.org
SUMMARY:Walk for Hope
DESCRIPTION:Hosted by Haystack MRD by Quest Diagnostics \nThe Walk for Hope\, presented by Haystack MRD by Quest Diagnostics\, is where we unite supporters across our community to provide health\, healing & hope for any patient who enters our Siteman Cancer Center – St. Peters. Regardless of your pace or path\, when you join the walk\, you’re taking steps to support the future of cancer care in St. Charles County. \nThe Walk for Hope is an inspiring\, family-friendly event and will consist of a 1-mile fun walk followed by a health and resource fair. As we build this symbol of hope that unites people behind the mission of the Barnes-Jewish St. Peters & Progress West Foundation\, we will also provide access to health and healing resources in our area. \nKeep the celebration going with some Family Fun happening outside of the Siteman Cancer Center at our Health & Resource Fair. The fair is FREE to attend and will feature booths from our hospital departments\, community partners and free health screening opportunities. Plus\, plenty to keep everyone entertained! We’ll have facepainting\, balloon artists\, bounce house\, music\, food trucks\, and more! \nRegister today to help deliver health\, healing & hope to patients\, their families and network of caregivers.
URL:https://gthmo.org/event/walk-for-hope/
LOCATION:Siteman Cancer Center at Barnes-Jewish St. Peters Hospital\, 150 Entrance Way\, St. Peters\, MO\, 63376\, United States
CATEGORIES:St. Louis Region
ORGANIZER;CN="Emily Riccio":MAILTO:bjcsccfoundation@bjc.org
END:VEVENT
END:VCALENDAR