BEGIN:VCALENDAR
VERSION:2.0
PRODID:-//Gateway to Hope - ECPv6.15.20//NONSGML v1.0//EN
CALSCALE:GREGORIAN
METHOD:PUBLISH
X-ORIGINAL-URL:https://gthmo.org
X-WR-CALDESC:Events for Gateway to Hope
REFRESH-INTERVAL;VALUE=DURATION:PT1H
X-Robots-Tag:noindex
X-PUBLISHED-TTL:PT1H
BEGIN:VTIMEZONE
TZID:America/Chicago
BEGIN:DAYLIGHT
TZOFFSETFROM:-0600
TZOFFSETTO:-0500
TZNAME:CDT
DTSTART:20250309T080000
END:DAYLIGHT
BEGIN:STANDARD
TZOFFSETFROM:-0500
TZOFFSETTO:-0600
TZNAME:CST
DTSTART:20251102T070000
END:STANDARD
BEGIN:DAYLIGHT
TZOFFSETFROM:-0600
TZOFFSETTO:-0500
TZNAME:CDT
DTSTART:20260308T080000
END:DAYLIGHT
BEGIN:STANDARD
TZOFFSETFROM:-0500
TZOFFSETTO:-0600
TZNAME:CST
DTSTART:20261101T070000
END:STANDARD
BEGIN:DAYLIGHT
TZOFFSETFROM:-0600
TZOFFSETTO:-0500
TZNAME:CDT
DTSTART:20270314T080000
END:DAYLIGHT
BEGIN:STANDARD
TZOFFSETFROM:-0500
TZOFFSETTO:-0600
TZNAME:CST
DTSTART:20271107T070000
END:STANDARD
END:VTIMEZONE
BEGIN:VEVENT
DTSTART;TZID=America/Chicago:20260516T100000
DTEND;TZID=America/Chicago:20260516T140000
DTSTAMP:20260420T034052
CREATED:20260417T154124Z
LAST-MODIFIED:20260417T164954Z
UID:5553-1778925600-1778940000@gthmo.org
SUMMARY:Pit Stop 10-Year Customer Appreciation Day
DESCRIPTION:Hosted by Pit Stop \n \nWe may or may not have lost our minds but… we’re only here cause our customers and the opportunity that the business allows for us in the community so… let’s lose our minds and throw the biggest party we have yet!!!! Celebrating our customers at an all free-to-you event. \nHere’s a list of what to expect: \n\nFood\nProduct Giveaways\nVendor Meet and Greet\nRace Cars\nBounce Houses\nPetting Zoo\nPony Rides\nFace Paint\nBalloon Art\nLive Music\n& More!
URL:https://gthmo.org/event/pit-stop-10-year-customer-appreciation-day/
LOCATION:Leadington Pit Stop\, 1 Chat Rd\, Leadington\, MO\, 63601\, United States
CATEGORIES:Southeast Region
ORGANIZER;CN="Leadington Pit Stop":MAILTO:leadingtonpitstop@pitstopmo.com
END:VEVENT
BEGIN:VEVENT
DTSTART;TZID=America/Chicago:20260530T100000
DTEND;TZID=America/Chicago:20260530T130000
DTSTAMP:20260420T034052
CREATED:20260417T154659Z
LAST-MODIFIED:20260417T165015Z
UID:5557-1780135200-1780146000@gthmo.org
SUMMARY:Courage in Motion
DESCRIPTION:Hosted by New Life Mission Inn \nJoin us on May 30th from 10:00 AM – 1:00 PM at the Veterans Memorial Pavilion in the Perryville City Park for a powerful community event in honor of Mental Health Awareness Month. \nThis event is FREE to attend and open to the public! \nWhat to Expect: \n\nCommunity resource booths\nInspiring guest speakers\nA community awareness walk\nSpecial balloon release\nFood truck on site\nEvent T-shirts\, cups\, and balloons available for purchase\n\nParticipants and businesses are invited to donate or become sponsors to help support the mission. \nNew Life Mission Inn proudly offers FREE mental health and recovery support services to Perry County residents\, and this event helps us continue serving our community with hope and compassion. \nTo register\, contact New Life Mission Inn or simply register at the event. \nLet’s stand together\, raise awareness\, and remind our community that no one walks alone. Because every step truly counts.
URL:https://gthmo.org/event/courage-in-motion/
LOCATION:Perry Park Center\, 800 City Park Dr\, Perryville\, MO\, 63775\, United States
CATEGORIES:Southeast Region
ORGANIZER;CN="New Life Mission Inn":MAILTO:newlifemissioninn@gmail.com
END:VEVENT
BEGIN:VEVENT
DTSTART;TZID=America/Chicago:20260722T080000
DTEND;TZID=America/Chicago:20260722T160000
DTSTAMP:20260420T034052
CREATED:20260417T155741Z
LAST-MODIFIED:20260417T165039Z
UID:5560-1784707200-1784736000@gthmo.org
SUMMARY:Thriving Together: A Community Behavioral Health + Wellness Conference
DESCRIPTION:Hosted by the Community Counseling Center \n \nOpen to the public\, this event is geared toward non-behavioral health professionals and community members wanting to learn more about behavioral health and wellness. \nHosted by the Community Counseling Center (CCC)\, this event features inspiring national keynote speakers and engaging breakout sessions with practical tools to support behavioral health and mental wellness. \nLet’s spark conversations\, break the stigma\, and thrive together as a stronger\, healthier community. \nRegistration for the 2026 event opens on May 1\, 2026!
URL:https://gthmo.org/event/thriving-together/
LOCATION:Show Me Center\, 1333 N Sprigg St\, Cape Girardeau\, MO\, 63701\, United States
CATEGORIES:Southeast Region
END:VEVENT
END:VCALENDAR