BEGIN:VCALENDAR
VERSION:2.0
PRODID:-//Gateway to Hope - ECPv6.15.20//NONSGML v1.0//EN
CALSCALE:GREGORIAN
METHOD:PUBLISH
X-ORIGINAL-URL:https://gthmo.org
X-WR-CALDESC:Events for Gateway to Hope
REFRESH-INTERVAL;VALUE=DURATION:PT1H
X-Robots-Tag:noindex
X-PUBLISHED-TTL:PT1H
BEGIN:VTIMEZONE
TZID:America/Chicago
BEGIN:DAYLIGHT
TZOFFSETFROM:-0600
TZOFFSETTO:-0500
TZNAME:CDT
DTSTART:20250309T080000
END:DAYLIGHT
BEGIN:STANDARD
TZOFFSETFROM:-0500
TZOFFSETTO:-0600
TZNAME:CST
DTSTART:20251102T070000
END:STANDARD
BEGIN:DAYLIGHT
TZOFFSETFROM:-0600
TZOFFSETTO:-0500
TZNAME:CDT
DTSTART:20260308T080000
END:DAYLIGHT
BEGIN:STANDARD
TZOFFSETFROM:-0500
TZOFFSETTO:-0600
TZNAME:CST
DTSTART:20261101T070000
END:STANDARD
BEGIN:DAYLIGHT
TZOFFSETFROM:-0600
TZOFFSETTO:-0500
TZNAME:CDT
DTSTART:20270314T080000
END:DAYLIGHT
BEGIN:STANDARD
TZOFFSETFROM:-0500
TZOFFSETTO:-0600
TZNAME:CST
DTSTART:20271107T070000
END:STANDARD
END:VTIMEZONE
BEGIN:VEVENT
DTSTART;TZID=America/Chicago:20260418T100000
DTEND;TZID=America/Chicago:20260418T140000
DTSTAMP:20260422T065009
CREATED:20260417T153529Z
LAST-MODIFIED:20260417T164920Z
UID:5546-1776506400-1776520800@gthmo.org
SUMMARY:Better U Bash
DESCRIPTION:Hosted by the Healthy Communities Coalition \n \nBetter U Bash is a FREE community event full of fun for adults and children. \n\nInflatable MEGA Brain (keynote speaker: Pierre Benitez)\nWalk-thru Colon\nCooking demonstrations\nFace painting\nBalloon animals and clowns\nSeed planting\nAnd much\, much more
URL:https://gthmo.org/event/better-u-bash/
LOCATION:Shawnee Park Center\, 835 South West End Blvd\, Cape Girardeau\, MO\, 63703\, United States
CATEGORIES:Southeast Region
END:VEVENT
END:VCALENDAR